BEGIN:VCALENDAR
VERSION:2.0
PRODID:-//Sevilla | Capital Espacial Española - ECPv6.15.20//NONSGML v1.0//EN
CALSCALE:GREGORIAN
METHOD:PUBLISH
X-ORIGINAL-URL:https://espacial.sevilla.org
X-WR-CALDESC:Eventos para Sevilla | Capital Espacial Española
REFRESH-INTERVAL;VALUE=DURATION:PT1H
X-Robots-Tag:noindex
X-PUBLISHED-TTL:PT1H
BEGIN:VTIMEZONE
TZID:Europe/Madrid
BEGIN:DAYLIGHT
TZOFFSETFROM:+0100
TZOFFSETTO:+0200
TZNAME:CEST
DTSTART:20250330T010000
END:DAYLIGHT
BEGIN:STANDARD
TZOFFSETFROM:+0200
TZOFFSETTO:+0100
TZNAME:CET
DTSTART:20251026T010000
END:STANDARD
BEGIN:DAYLIGHT
TZOFFSETFROM:+0100
TZOFFSETTO:+0200
TZNAME:CEST
DTSTART:20260329T010000
END:DAYLIGHT
BEGIN:STANDARD
TZOFFSETFROM:+0200
TZOFFSETTO:+0100
TZNAME:CET
DTSTART:20261025T010000
END:STANDARD
BEGIN:DAYLIGHT
TZOFFSETFROM:+0100
TZOFFSETTO:+0200
TZNAME:CEST
DTSTART:20270328T010000
END:DAYLIGHT
BEGIN:STANDARD
TZOFFSETFROM:+0200
TZOFFSETTO:+0100
TZNAME:CET
DTSTART:20271031T010000
END:STANDARD
END:VTIMEZONE
BEGIN:VEVENT
DTSTART;TZID=Europe/Madrid:20260512T170000
DTEND;TZID=Europe/Madrid:20260609T183000
DTSTAMP:20260422T155151
CREATED:20260421T111505Z
LAST-MODIFIED:20260421T111505Z
UID:10002274-1778605200-1781029800@espacial.sevilla.org
SUMMARY:CURSO DE INICIACIÓN A LA ASTRONOMÍA PRÁCTICA Y ECLIPSES. I EDICIÓN – 2026
DESCRIPTION:CURSO DE INICIACIÓN A LA ASTRONOMÍA PRÁCTICA Y ECLIPSES. I EDICIÓN – 2026\nLa observación astronómica destaca como una de las actividades más importantes del turismo científico y natural\, y Andalucía es una potencia destacada en este campo en Europa\, lo que hace estos contenidos especialmente atractivos para el colectivo empresarial dedicado al astroturismo en sus diferentes formatos. Esta dimensión adquiere más importancia a la vista del trío de eclipses solares de los años 2026\, 2027 y 2028. \nLa formación comprende nociones teóricas y prácticas para observar el cielo a simple vista. Incidirá de manera especial en la observación solar y de eclipses solares\, con la vista puesta en el trío de eclipses solares de 2026\, 2027 y 2028\, dos de los cuales tienen a Andalucía como zona de observación privilegiada. \nIncluye una sesión práctica de observación que se realizará en colaboración con diferentes asociaciones astronómicas pertenecientes a la Red Andaluza de Astronomía (RADA). \nPROGRAMA \nEn la primera edición del nivel cero\, los contenidos que se van a impartir están divididos en nueve sesiones. \n1. Orientación elemental al aire libre y primeros pasos entre las estrellas. (12 de mayo 2026 / 17:00h a 18:30h)\n2. La Luna a simple vista y sus fases. (14 de mayo 2026 / 17:00h a 18:30h)\n3. El cielo estrellado a simple vista. (19 mayo 2026 / 17:00h a 18:30h)\n4. Rotación y traslación terrestres: ciclos diario y anual del firmamento. (21 mayo 2026 / 17:00h a 18:30h)\n5. Contaminación lumínica. (26 mayo 2026 / 17:00h a 18:30h)\n6. El Sistema Solar a simple vista: el Sol y los planetas sin ayuda óptica (28 mayo 2026 / 17:00h a 18:30h)\n7. Eclipses de Sol y Luna: cómo funcionan y cómo observarlos de manera segura. (2 junio 2026 / 17:00h a 18:30h)\n8. Preparación de la sesión práctica a cargo de David Galadí. (9 junio 2026 / 17:00h a 18:30h)\n9. Sesión práctica de observación en varios puntos de Andalucía en colaboración con las asociaciones de aficionados. (Fecha por determinar) \nLa sesión práctica de observación se realizará en varios puntos de Andalucía en colaboración con las asociaciones astronómicas pertenecientes a la Red Andaluza de Astronomía (RADA). Se citará a los participantes en varios puntos de Andalucía\, para que puedan escoger la localización que más les interese. \nHorarios\n\n\nLas sesiones online tendrán lugar entre las 17:00 y las 18:30 los siguientes días: 12\, 14\, 19\, 21\, 26 y 28 de mayo; 2 y 9 de junio.
URL:https://espacial.sevilla.org/actividad/curso-de-iniciacion-a-la-astronomia-practica-y-eclipses-i-edicion-2026/
LOCATION:Online
CATEGORIES:Agenda,Destacados
ATTACH;FMTTYPE=image/png:https://espacial.sevilla.org/wp-content/uploads/Astrofisica-con-acento-andaluz-emociones-retos-y-futuro-21.png
ORGANIZER;CN="Fundaci%C3%B3n Descubre":MAILTO:carolina.moya@fundaciondescubre.es
END:VEVENT
END:VCALENDAR