BEGIN:VCALENDAR
VERSION:2.0
PRODID:-//Sevilla | Capital Espacial Española - ECPv6.15.20//NONSGML v1.0//EN
CALSCALE:GREGORIAN
METHOD:PUBLISH
X-ORIGINAL-URL:https://espacial.sevilla.org
X-WR-CALDESC:Eventos para Sevilla | Capital Espacial Española
REFRESH-INTERVAL;VALUE=DURATION:PT1H
X-Robots-Tag:noindex
X-PUBLISHED-TTL:PT1H
BEGIN:VTIMEZONE
TZID:Europe/Madrid
BEGIN:DAYLIGHT
TZOFFSETFROM:+0100
TZOFFSETTO:+0200
TZNAME:CEST
DTSTART:20240331T010000
END:DAYLIGHT
BEGIN:STANDARD
TZOFFSETFROM:+0200
TZOFFSETTO:+0100
TZNAME:CET
DTSTART:20241027T010000
END:STANDARD
BEGIN:DAYLIGHT
TZOFFSETFROM:+0100
TZOFFSETTO:+0200
TZNAME:CEST
DTSTART:20250330T010000
END:DAYLIGHT
BEGIN:STANDARD
TZOFFSETFROM:+0200
TZOFFSETTO:+0100
TZNAME:CET
DTSTART:20251026T010000
END:STANDARD
BEGIN:DAYLIGHT
TZOFFSETFROM:+0100
TZOFFSETTO:+0200
TZNAME:CEST
DTSTART:20260329T010000
END:DAYLIGHT
BEGIN:STANDARD
TZOFFSETFROM:+0200
TZOFFSETTO:+0100
TZNAME:CET
DTSTART:20261025T010000
END:STANDARD
END:VTIMEZONE
BEGIN:VEVENT
DTSTART;TZID=Europe/Madrid:20251008T180000
DTEND;TZID=Europe/Madrid:20251008T230000
DTSTAMP:20260419T183615
CREATED:20250909T095927Z
LAST-MODIFIED:20251009T073705Z
UID:10002079-1759946400-1759964400@espacial.sevilla.org
SUMMARY:Física en el Espacio
DESCRIPTION:Serie de talleres sobre distintos aspectos de la Física en el espacio organizado por los grupos de investigación de la Facultad de Física implicados en este área. Entre otros se plantean: Viaje por el Sistema Solar (destinado a niños); Taller de plasma y espectroscopía (todos los públicos); Taller de observación astronómica con telescopios (todos los públicos).
URL:https://espacial.sevilla.org/actividad/fisica-en-el-espacio/
LOCATION:Facultad de Física de la Universidad de Sevilla\, Avda. Reina Mercedes s/n. Campus de Reina Mercedes de la Universidad de Sevilla\, Sevilla\, Sevilla\, 41012\, Spain
CATEGORIES:Semana del Espacio
ATTACH;FMTTYPE=image/jpeg:https://espacial.sevilla.org/wp-content/uploads/planetas-del-sistema-solar.jpg
END:VEVENT
BEGIN:VEVENT
DTSTART;TZID=Europe/Madrid:20251007T160000
DTEND;TZID=Europe/Madrid:20251007T193000
DTSTAMP:20260419T183615
CREATED:20250910T094051Z
LAST-MODIFIED:20251008T075113Z
UID:10002092-1759852800-1759865400@espacial.sevilla.org
SUMMARY:Jornada sobre Seguridad y Defensa Espacial
DESCRIPTION:Colaboración Universidad de Sevilla (US) – Ejército del Aire y del Espacio (EA)- Agencia Espacial Española (AEE)– Academia de las Ciencias y las Artes Militares (ACAMI). \nEl objetivo de la jornada es contribuir a la concienciación sobre la importancia creciente del espacio en nuestras vidas y de los cada vez más relevantes aspectos de seguridad y defensa en este dominio.
URL:https://espacial.sevilla.org/actividad/jornada-sobre-seguridad-y-defensa-espacial/
LOCATION:Escuela Técnica Superior de Ingeniería de Sevilla\, Avenida Camino de los Descubrimientos\, S/N\, Sevilla\, Sevilla\, 41092\, España
CATEGORIES:Semana del Espacio
ATTACH;FMTTYPE=image/jpeg:https://espacial.sevilla.org/wp-content/uploads/publi.jpg
END:VEVENT
BEGIN:VEVENT
DTSTART;VALUE=DATE:20251004
DTEND;VALUE=DATE:20251011
DTSTAMP:20260419T183615
CREATED:20250908T131737Z
LAST-MODIFIED:20251014T150917Z
UID:10002075-1759536000-1760140799@espacial.sevilla.org
SUMMARY:Lanzamiento Estratosférico - FyCUS
DESCRIPTION:Nuestro lanzamiento en globo sonda es un vuelo estratosférico que ascenderá hasta unos 30 km de altitud en octubre de 2025 desde la provincia de Sevilla. La góndola transportará un modelo funcional (engineering model) de nuestro futuro CubeSat y un paquete de sensores ambientales. Durante la ascensión\, el descenso en paracaídas y la recuperación en tierra se medirán temperaturas de -60C\, presiones de entorno casi vacío y niveles elevados de radiación UV\, replicando las condiciones cuasi-espaciales donde operará el satélite orbital. Todos los datos se transmitirán en tiempo real por comunicaciones radio (LoRA) hacia una estación terrestre y se grabarán en la memoria de abordo para análisis posterior. \nPrograma\nFyCUS invita a vivir\, en tres capítulos\, un auténtico viaje a la estratosfera: \nBriefing de Misión\nCharla divulgativa en la ETSI donde presentaremos la ingeniería de nuestro CubeSat 1 U\, los sensores ambientales que viajarán a bordo y los objetivos científicos del vuelo. \nLanzamiento Estratosférico\nDespegue de un globo sonda desde la campiña sevillana que alcanzará 30 km. El público podrá seguirlo en directo\, presencial y en streaming. \nDatos\, Ciencia y Retorno\nCharla divulgativa donde abriremos los datos registrados\, explicaremos cómo se analiza un entorno cuasi-espacial y mostraremos el impacto en el diseño del futuro CubeSat orbital. \nTres hitos\, una sola experiencia: descubrir cómo se ensaya un satélite en nuestra propia atmósfera.
URL:https://espacial.sevilla.org/actividad/lanzamiento-estratosferico-fycus/
LOCATION:Aeródromo Los Alcores (LEAH)\, Aeródromo los Alcores. SE-3202\, Mairena del Alcor\, Sevilla\, 41510\, Spain
CATEGORIES:Semana del Espacio
ATTACH;FMTTYPE=image/jpeg:https://espacial.sevilla.org/wp-content/uploads/IMAGEN_FYCUS.jpg
ORGANIZER;CN="Asociaci%C3%B3n FyCUS - Universidad de Sevilla":MAILTO:fycus@us.es
END:VEVENT
END:VCALENDAR