BEGIN:VCALENDAR
VERSION:2.0
PRODID:-//Sevilla | Capital Espacial Española - ECPv6.15.20//NONSGML v1.0//EN
CALSCALE:GREGORIAN
METHOD:PUBLISH
X-WR-CALNAME:Sevilla | Capital Espacial Española
X-ORIGINAL-URL:https://espacial.sevilla.org
X-WR-CALDESC:Eventos para Sevilla | Capital Espacial Española
REFRESH-INTERVAL;VALUE=DURATION:PT1H
X-Robots-Tag:noindex
X-PUBLISHED-TTL:PT1H
BEGIN:VTIMEZONE
TZID:Europe/Madrid
BEGIN:DAYLIGHT
TZOFFSETFROM:+0100
TZOFFSETTO:+0200
TZNAME:CEST
DTSTART:20240331T010000
END:DAYLIGHT
BEGIN:STANDARD
TZOFFSETFROM:+0200
TZOFFSETTO:+0100
TZNAME:CET
DTSTART:20241027T010000
END:STANDARD
BEGIN:DAYLIGHT
TZOFFSETFROM:+0100
TZOFFSETTO:+0200
TZNAME:CEST
DTSTART:20250330T010000
END:DAYLIGHT
BEGIN:STANDARD
TZOFFSETFROM:+0200
TZOFFSETTO:+0100
TZNAME:CET
DTSTART:20251026T010000
END:STANDARD
BEGIN:DAYLIGHT
TZOFFSETFROM:+0100
TZOFFSETTO:+0200
TZNAME:CEST
DTSTART:20260329T010000
END:DAYLIGHT
BEGIN:STANDARD
TZOFFSETFROM:+0200
TZOFFSETTO:+0100
TZNAME:CET
DTSTART:20261025T010000
END:STANDARD
END:VTIMEZONE
BEGIN:VEVENT
DTSTART;TZID=Europe/Madrid:20251010T103000
DTEND;TZID=Europe/Madrid:20251010T123000
DTSTAMP:20260420T061839
CREATED:20250909T110105Z
LAST-MODIFIED:20250909T110105Z
UID:10002082-1760092200-1760099400@espacial.sevilla.org
SUMMARY:Space STEM
DESCRIPTION:Fundación Ayesa pone en marcha «Space STEM»\, un conjunto de talleres tecnológicos orientados a acercar el mundo del espacio a niños y niñas de Educación Primaria. A través de una experiencia inmersiva y participativa\, los alumnos podrán explorar conceptos científicos y tecnológicos relacionados con el universo\, utilizando herramientas innovadoras. \nActividades incluidas: \n🛰️ Realidad Virtual (VR): Exploración del espacio con gafas de realidad virtual\, simulando viajes a la Estación Espacial Internacional\, planetas y satélites. \n🌌 Realidad Aumentada (AR): Visualización en 3D del sistema solar y cuerpos celestes mediante AR. \n🚁 Drones educativos: Demostraciones y actividades prácticas con drones\, asociadas a misiones de exploración espacial. \n💡 Retos STEM: Experimentos y dinámicas adaptadas que introducen conceptos de física\, astronomía\, programación y tecnología. \nCondiciones de participación: \n👥 Dirigido a: Alumnado de Educación Primaria \n📏 Grupo máximo: 1 clase por sesión (hasta 30 alumnos) \n📅 Requiere cita previa para la coordinación del horario y espacio
URL:https://espacial.sevilla.org/actividad/space-stem-2/
LOCATION:Edificio Ayesa\, Avda. Marie Curie\, 2\, Sevilla\, Sevilla\, 41092\, Spain
CATEGORIES:Semana del Espacio
ATTACH;FMTTYPE=image/jpeg:https://espacial.sevilla.org/wp-content/uploads/realidad-virtual.jpg
ORGANIZER;CN="Fundaci%C3%B3n Ayesa":MAILTO:info@fundacionayesa.org
END:VEVENT
BEGIN:VEVENT
DTSTART;TZID=Europe/Madrid:20251007T103000
DTEND;TZID=Europe/Madrid:20251007T123000
DTSTAMP:20260420T061839
CREATED:20250909T105648Z
LAST-MODIFIED:20250909T105918Z
UID:10002081-1759833000-1759840200@espacial.sevilla.org
SUMMARY:Space STEM
DESCRIPTION:Fundación Ayesa pone en marcha «Space STEM»\, un conjunto de talleres tecnológicos orientados a acercar el mundo del espacio a niños y niñas de Educación Primaria. A través de una experiencia inmersiva y participativa\, los alumnos podrán explorar conceptos científicos y tecnológicos relacionados con el universo\, utilizando herramientas innovadoras. \nActividades incluidas: \n🛰️ Realidad Virtual (VR): Exploración del espacio con gafas de realidad virtual\, simulando viajes a la Estación Espacial Internacional\, planetas y satélites. \n🌌 Realidad Aumentada (AR): Visualización en 3D del sistema solar y cuerpos celestes mediante AR. \n🚁 Drones educativos: Demostraciones y actividades prácticas con drones\, asociadas a misiones de exploración espacial. \n💡 Retos STEM: Experimentos y dinámicas adaptadas que introducen conceptos de física\, astronomía\, programación y tecnología. \nCondiciones de participación: \n👥 Dirigido a: Alumnado de Educación Primaria \n📏 Grupo máximo: 1 clase por sesión (hasta 30 alumnos) \n📅 Requiere cita previa para la coordinación del horario y espacio
URL:https://espacial.sevilla.org/actividad/space-stem/
LOCATION:Edificio Ayesa\, Avda. Marie Curie\, 2\, Sevilla\, Sevilla\, 41092\, Spain
CATEGORIES:Semana del Espacio
ATTACH;FMTTYPE=image/jpeg:https://espacial.sevilla.org/wp-content/uploads/realidad-virtual.jpg
ORGANIZER;CN="Fundaci%C3%B3n Ayesa":MAILTO:info@fundacionayesa.org
END:VEVENT
END:VCALENDAR